BEGIN:VCALENDAR
VERSION:2.0
PRODID:-//Kiama Fishing - ECPv4.9.6//NONSGML v1.0//EN
CALSCALE:GREGORIAN
METHOD:PUBLISH
X-WR-CALNAME:Kiama Fishing
X-ORIGINAL-URL:https://kiamafishing.com.au
X-WR-CALDESC:Events for Kiama Fishing
BEGIN:VTIMEZONE
TZID:"Europe/Paris"
BEGIN:DAYLIGHT
TZOFFSETFROM:+0100
TZOFFSETTO:+0200
TZNAME:CEST
DTSTART:20200329T010000
END:DAYLIGHT
BEGIN:STANDARD
TZOFFSETFROM:+0200
TZOFFSETTO:+0100
TZNAME:CET
DTSTART:20201025T010000
END:STANDARD
END:VTIMEZONE
BEGIN:VEVENT
DTSTART;TZID="Europe/Paris":20200307T060000
DTEND;TZID="Europe/Paris":20200307T140000
DTSTAMP:20200229T102905
CREATED:20191209T022403Z
LAST-MODIFIED:20191209T022403Z
UID:6762-1583560800-1583589600@kiamafishing.com.au
SUMMARY:7th March Fully booked
DESCRIPTION:7th March Fully booked \n
URL:https://kiamafishing.com.au/availabilitynow/7th-march-fully-booked/
CATEGORIES:Charter Availability
END:VEVENT
END:VCALENDAR