BEGIN:VCALENDAR
VERSION:2.0
PRODID:-//Kiama Fishing - ECPv4.9.6//NONSGML v1.0//EN
CALSCALE:GREGORIAN
METHOD:PUBLISH
X-WR-CALNAME:Kiama Fishing
X-ORIGINAL-URL:https://kiamafishing.com.au
X-WR-CALDESC:Events for Kiama Fishing
BEGIN:VTIMEZONE
TZID:"Europe/Paris"
BEGIN:DAYLIGHT
TZOFFSETFROM:+0100
TZOFFSETTO:+0200
TZNAME:CEST
DTSTART:20200329T010000
END:DAYLIGHT
BEGIN:STANDARD
TZOFFSETFROM:+0200
TZOFFSETTO:+0100
TZNAME:CET
DTSTART:20201025T010000
END:STANDARD
END:VTIMEZONE
BEGIN:VEVENT
DTSTART;TZID="Europe/Paris":20200306T060000
DTEND;TZID="Europe/Paris":20200306T140000
DTSTAMP:20200229T102841
CREATED:20200206T045012Z
LAST-MODIFIED:20200224T014723Z
UID:6887-1583474400-1583503200@kiamafishing.com.au
SUMMARY:Friday 6 March. 5 places for Reef fishing at $145pp
DESCRIPTION:Friday 6 March. 5 places for Reef fishing at $145pp. Please phone to book and arrange minimum 50% payment to confirm\n
URL:https://kiamafishing.com.au/availabilitynow/friday-6-march-possible-reef-fishing-charter-at-145pp/
CATEGORIES:Charter Availability
END:VEVENT
END:VCALENDAR