BEGIN:VCALENDAR
VERSION:2.0
PRODID:-//Kiama Fishing - ECPv4.9.6//NONSGML v1.0//EN
CALSCALE:GREGORIAN
METHOD:PUBLISH
X-WR-CALNAME:Kiama Fishing
X-ORIGINAL-URL:https://kiamafishing.com.au
X-WR-CALDESC:Events for Kiama Fishing
BEGIN:VTIMEZONE
TZID:"Europe/Paris"
BEGIN:DAYLIGHT
TZOFFSETFROM:+0100
TZOFFSETTO:+0200
TZNAME:CEST
DTSTART:20210328T010000
END:DAYLIGHT
BEGIN:STANDARD
TZOFFSETFROM:+0200
TZOFFSETTO:+0100
TZNAME:CET
DTSTART:20211031T010000
END:STANDARD
END:VTIMEZONE
BEGIN:VEVENT
DTSTART;VALUE=DATE:20210208
DTEND;VALUE=DATE:20210213
DTSTAMP:20210224T114420
CREATED:20200917T034250Z
LAST-MODIFIED:20200917T034250Z
UID:7152-1612742400-1613174399@kiamafishing.com.au
SUMMARY:Monday 8 February - Friday 12 February. Unavailable
DESCRIPTION:Monday 8 February – Friday 12 February. Unavailable\n
URL:https://kiamafishing.com.au/availabilitynow/monday-8-february-friday-12-february-unavailable/
CATEGORIES:Charter Availability
END:VEVENT
END:VCALENDAR