BEGIN:VCALENDAR
VERSION:2.0
PRODID:-//Kiama Fishing - ECPv4.9.6//NONSGML v1.0//EN
CALSCALE:GREGORIAN
METHOD:PUBLISH
X-WR-CALNAME:Kiama Fishing
X-ORIGINAL-URL:https://kiamafishing.com.au
X-WR-CALDESC:Events for Kiama Fishing
BEGIN:VTIMEZONE
TZID:"Europe/Paris"
BEGIN:DAYLIGHT
TZOFFSETFROM:+0100
TZOFFSETTO:+0200
TZNAME:CEST
DTSTART:20200329T010000
END:DAYLIGHT
BEGIN:STANDARD
TZOFFSETFROM:+0200
TZOFFSETTO:+0100
TZNAME:CET
DTSTART:20201025T010000
END:STANDARD
END:VTIMEZONE
BEGIN:VEVENT
DTSTART;TZID="Europe/Paris":20201114T060000
DTEND;TZID="Europe/Paris":20201114T140000
DTSTAMP:20200229T105033
CREATED:20191204T042904Z
LAST-MODIFIED:20191204T043048Z
UID:6745-1605333600-1605362400@kiamafishing.com.au
SUMMARY:Saturday 14 November. Fully Booked
DESCRIPTION:Saturday 14 November. Fully Booked \n
URL:https://kiamafishing.com.au/availabilitynow/saturday-14-november-fully-booked/
CATEGORIES:Charter Availability
END:VEVENT
END:VCALENDAR