BEGIN:VCALENDAR
VERSION:2.0
PRODID:-//Kiama Fishing - ECPv4.9.6//NONSGML v1.0//EN
CALSCALE:GREGORIAN
METHOD:PUBLISH
X-WR-CALNAME:Kiama Fishing
X-ORIGINAL-URL:https://kiamafishing.com.au
X-WR-CALDESC:Events for Kiama Fishing
BEGIN:VTIMEZONE
TZID:"Europe/Paris"
BEGIN:DAYLIGHT
TZOFFSETFROM:+0100
TZOFFSETTO:+0200
TZNAME:CEST
DTSTART:20200329T010000
END:DAYLIGHT
BEGIN:STANDARD
TZOFFSETFROM:+0200
TZOFFSETTO:+0100
TZNAME:CET
DTSTART:20201025T010000
END:STANDARD
END:VTIMEZONE
BEGIN:VEVENT
DTSTART;TZID="Europe/Paris":20200502T060000
DTEND;TZID="Europe/Paris":20200502T140000
DTSTAMP:20200229T105142
CREATED:20200229T052045Z
LAST-MODIFIED:20200229T052045Z
UID:6941-1588399200-1588428000@kiamafishing.com.au
SUMMARY:Saturday 2 May. 5 places available for Reef fishing at $145pp.
DESCRIPTION:Saturday 2 May. 5 places available for Reef fishing at $145pp. Please phone to book and arrange minimum 50% payment to confirm\n
URL:https://kiamafishing.com.au/availabilitynow/saturday-2-may-5-places-available-for-reef-fishing-at-145pp/
CATEGORIES:Charter Availability
END:VEVENT
END:VCALENDAR