BEGIN:VCALENDAR
VERSION:2.0
PRODID:-//Kiama Fishing - ECPv4.9.6//NONSGML v1.0//EN
CALSCALE:GREGORIAN
METHOD:PUBLISH
X-WR-CALNAME:Kiama Fishing
X-ORIGINAL-URL:https://kiamafishing.com.au
X-WR-CALDESC:Events for Kiama Fishing
BEGIN:VTIMEZONE
TZID:"Europe/Paris"
BEGIN:DAYLIGHT
TZOFFSETFROM:+0100
TZOFFSETTO:+0200
TZNAME:CEST
DTSTART:20210328T010000
END:DAYLIGHT
BEGIN:STANDARD
TZOFFSETFROM:+0200
TZOFFSETTO:+0100
TZNAME:CET
DTSTART:20211031T010000
END:STANDARD
END:VTIMEZONE
BEGIN:VEVENT
DTSTART;TZID="Europe/Paris":20210227T060000
DTEND;TZID="Europe/Paris":20210227T140000
DTSTAMP:20210224T114630
CREATED:20210118T042537Z
LAST-MODIFIED:20210121T213155Z
UID:7402-1614405600-1614434400@kiamafishing.com.au
SUMMARY:Saturday 27 February. Fully Booked
DESCRIPTION:Saturday 27 February. Fully Booked\n
URL:https://kiamafishing.com.au/availabilitynow/saturday-27-february-fully-booked-payment-to-come/
CATEGORIES:Charter Availability
END:VEVENT
END:VCALENDAR