BEGIN:VCALENDAR
VERSION:2.0
PRODID:-//Kiama Fishing - ECPv4.9.6//NONSGML v1.0//EN
CALSCALE:GREGORIAN
METHOD:PUBLISH
X-WR-CALNAME:Kiama Fishing
X-ORIGINAL-URL:https://kiamafishing.com.au
X-WR-CALDESC:Events for Kiama Fishing
BEGIN:VTIMEZONE
TZID:"Europe/Paris"
BEGIN:DAYLIGHT
TZOFFSETFROM:+0100
TZOFFSETTO:+0200
TZNAME:CEST
DTSTART:20200329T010000
END:DAYLIGHT
BEGIN:STANDARD
TZOFFSETFROM:+0200
TZOFFSETTO:+0100
TZNAME:CET
DTSTART:20201025T010000
END:STANDARD
END:VTIMEZONE
BEGIN:VEVENT
DTSTART;TZID="Europe/Paris":20200329T060000
DTEND;TZID="Europe/Paris":20200329T140000
DTSTAMP:20200229T105510
CREATED:20200226T034241Z
LAST-MODIFIED:20200226T034241Z
UID:6936-1585461600-1585490400@kiamafishing.com.au
SUMMARY:Sunday 29 March. Fully Booked (deposit to come)
DESCRIPTION:Sunday 29 March. Fully Booked (deposit to come)\n
URL:https://kiamafishing.com.au/availabilitynow/sunday-29-march-fully-booked-deposit-to-come/
CATEGORIES:Charter Availability
END:VEVENT
END:VCALENDAR