BEGIN:VCALENDAR
VERSION:2.0
PRODID:-//Kiama Fishing - ECPv4.9.6//NONSGML v1.0//EN
CALSCALE:GREGORIAN
METHOD:PUBLISH
X-WR-CALNAME:Kiama Fishing
X-ORIGINAL-URL:https://kiamafishing.com.au
X-WR-CALDESC:Events for Kiama Fishing
BEGIN:VTIMEZONE
TZID:"Europe/Paris"
BEGIN:DAYLIGHT
TZOFFSETFROM:+0100
TZOFFSETTO:+0200
TZNAME:CEST
DTSTART:20210328T010000
END:DAYLIGHT
BEGIN:STANDARD
TZOFFSETFROM:+0200
TZOFFSETTO:+0100
TZNAME:CET
DTSTART:20211031T010000
END:STANDARD
END:VTIMEZONE
BEGIN:VEVENT
DTSTART;TZID="Europe/Paris":20210207T060000
DTEND;TZID="Europe/Paris":20210207T140000
DTSTAMP:20210224T114403
CREATED:20210125T063256Z
LAST-MODIFIED:20210129T010038Z
UID:7416-1612677600-1612706400@kiamafishing.com.au
SUMMARY:Sunday 7 February. Fully Booked
DESCRIPTION:Sunday 7 February. Fully Booked\n
URL:https://kiamafishing.com.au/availabilitynow/sunday-7-february-1-place-available-for-reef-fishing-at-180/
CATEGORIES:Charter Availability
END:VEVENT
END:VCALENDAR