BEGIN:VCALENDAR
VERSION:2.0
PRODID:-//Kiama Fishing - ECPv4.9.6//NONSGML v1.0//EN
CALSCALE:GREGORIAN
METHOD:PUBLISH
X-WR-CALNAME:Kiama Fishing
X-ORIGINAL-URL:https://kiamafishing.com.au
X-WR-CALDESC:Events for Kiama Fishing
BEGIN:VTIMEZONE
TZID:"Europe/Paris"
BEGIN:DAYLIGHT
TZOFFSETFROM:+0100
TZOFFSETTO:+0200
TZNAME:CEST
DTSTART:20200329T010000
END:DAYLIGHT
BEGIN:STANDARD
TZOFFSETFROM:+0200
TZOFFSETTO:+0100
TZNAME:CET
DTSTART:20201025T010000
END:STANDARD
END:VTIMEZONE
BEGIN:VEVENT
DTSTART;TZID="Europe/Paris":20200312T060000
DTEND;TZID="Europe/Paris":20200312T140000
DTSTAMP:20200229T103237
CREATED:20200213T062850Z
LAST-MODIFIED:20200224T063649Z
UID:6901-1583992800-1584021600@kiamafishing.com.au
SUMMARY:Thursday 12 March. 1 place available for Reef fishing at $145pp
DESCRIPTION:Thursday 12 March. 1 place available for Reef fishing at $145pp. Please phone to book and arrange minimum 50% payment to confirm\n\n
URL:https://kiamafishing.com.au/availabilitynow/tuesday-12-march-4-places-available-for-reef-fishing-at-145pp/
CATEGORIES:Charter Availability
END:VEVENT
END:VCALENDAR