BEGIN:VCALENDAR
VERSION:2.0
PRODID:-//Kiama Fishing - ECPv4.9.6//NONSGML v1.0//EN
CALSCALE:GREGORIAN
METHOD:PUBLISH
X-WR-CALNAME:Kiama Fishing
X-ORIGINAL-URL:https://kiamafishing.com.au
X-WR-CALDESC:Events for Kiama Fishing
BEGIN:VTIMEZONE
TZID:"Europe/Paris"
BEGIN:DAYLIGHT
TZOFFSETFROM:+0100
TZOFFSETTO:+0200
TZNAME:CEST
DTSTART:20210328T010000
END:DAYLIGHT
BEGIN:STANDARD
TZOFFSETFROM:+0200
TZOFFSETTO:+0100
TZNAME:CET
DTSTART:20211031T010000
END:STANDARD
END:VTIMEZONE
BEGIN:VEVENT
DTSTART;TZID="Europe/Paris":20210216T060000
DTEND;TZID="Europe/Paris":20210216T140000
DTSTAMP:20210224T114507
CREATED:20210213T000342Z
LAST-MODIFIED:20210213T000342Z
UID:7448-1613455200-1613484000@kiamafishing.com.au
SUMMARY:Tuesday 16 February. 3 Places available for Reef fishing at $180pp
DESCRIPTION:Tuesday 16 February. 3 Places available for Reef fishing at $180pp\n
URL:https://kiamafishing.com.au/availabilitynow/tuesday-16-february-3-places-available-for-reef-fishing-at-180pp/
CATEGORIES:Charter Availability
END:VEVENT
END:VCALENDAR